BEGIN:VCALENDAR
VERSION:2.0
PRODID:-//Dementia Resource Center - ECPv6.15.20//NONSGML v1.0//EN
CALSCALE:GREGORIAN
METHOD:PUBLISH
X-WR-CALNAME:Dementia Resource Center
X-ORIGINAL-URL:https://dementia.stjohnsliving.org
X-WR-CALDESC:Events for Dementia Resource Center
REFRESH-INTERVAL;VALUE=DURATION:PT1H
X-Robots-Tag:noindex
X-PUBLISHED-TTL:PT1H
BEGIN:VTIMEZONE
TZID:America/New_York
BEGIN:DAYLIGHT
TZOFFSETFROM:-0500
TZOFFSETTO:-0400
TZNAME:EDT
DTSTART:20220313T070000
END:DAYLIGHT
BEGIN:STANDARD
TZOFFSETFROM:-0400
TZOFFSETTO:-0500
TZNAME:EST
DTSTART:20221106T060000
END:STANDARD
BEGIN:DAYLIGHT
TZOFFSETFROM:-0500
TZOFFSETTO:-0400
TZNAME:EDT
DTSTART:20230312T070000
END:DAYLIGHT
BEGIN:STANDARD
TZOFFSETFROM:-0400
TZOFFSETTO:-0500
TZNAME:EST
DTSTART:20231105T060000
END:STANDARD
BEGIN:DAYLIGHT
TZOFFSETFROM:-0500
TZOFFSETTO:-0400
TZNAME:EDT
DTSTART:20240310T070000
END:DAYLIGHT
BEGIN:STANDARD
TZOFFSETFROM:-0400
TZOFFSETTO:-0500
TZNAME:EST
DTSTART:20241103T060000
END:STANDARD
END:VTIMEZONE
BEGIN:VEVENT
DTSTART;TZID=America/New_York:20230214T130000
DTEND;TZID=America/New_York:20230214T140000
DTSTAMP:20260423T105355
CREATED:20230207T164012Z
LAST-MODIFIED:20230207T164012Z
UID:27363-1676379600-1676383200@dementia.stjohnsliving.org
SUMMARY:Understanding Alzheimer's and Dementia: Perinton Community Center
DESCRIPTION:Alzheimer’s disease is not a normal part of aging. Join us to learn about the impact of Alzheimer’s; the difference between Alzheimer’s and dementia; stages and risk factors; current research and treatments available for some symptoms; and Alzheimer’s Association resources. \n\nAdditional Information\n\nAlzheimer’s and dementia do not come with an instruction manual\, but there are resources available to help. Use these free education programs to learn more about what to expect and how to prepare for the future. Registration is required. For additional information\, or questions\, please call 800.272.3900.
URL:https://dementia.stjohnsliving.org/event/understanding-alzheimers-and-dementia-3/
LOCATION:Perinton Community Center\, Fairport\, NY\, United States
END:VEVENT
END:VCALENDAR