BEGIN:VCALENDAR
VERSION:2.0
PRODID:-//Dementia Resource Center - ECPv6.15.20//NONSGML v1.0//EN
CALSCALE:GREGORIAN
METHOD:PUBLISH
X-WR-CALNAME:Dementia Resource Center
X-ORIGINAL-URL:https://dementia.stjohnsliving.org
X-WR-CALDESC:Events for Dementia Resource Center
REFRESH-INTERVAL;VALUE=DURATION:PT1H
X-Robots-Tag:noindex
X-PUBLISHED-TTL:PT1H
BEGIN:VTIMEZONE
TZID:America/New_York
BEGIN:DAYLIGHT
TZOFFSETFROM:-0500
TZOFFSETTO:-0400
TZNAME:EDT
DTSTART:20220313T070000
END:DAYLIGHT
BEGIN:STANDARD
TZOFFSETFROM:-0400
TZOFFSETTO:-0500
TZNAME:EST
DTSTART:20221106T060000
END:STANDARD
BEGIN:DAYLIGHT
TZOFFSETFROM:-0500
TZOFFSETTO:-0400
TZNAME:EDT
DTSTART:20230312T070000
END:DAYLIGHT
BEGIN:STANDARD
TZOFFSETFROM:-0400
TZOFFSETTO:-0500
TZNAME:EST
DTSTART:20231105T060000
END:STANDARD
BEGIN:DAYLIGHT
TZOFFSETFROM:-0500
TZOFFSETTO:-0400
TZNAME:EDT
DTSTART:20240310T070000
END:DAYLIGHT
BEGIN:STANDARD
TZOFFSETFROM:-0400
TZOFFSETTO:-0500
TZNAME:EST
DTSTART:20241103T060000
END:STANDARD
BEGIN:DAYLIGHT
TZOFFSETFROM:-0500
TZOFFSETTO:-0400
TZNAME:EDT
DTSTART:20250309T070000
END:DAYLIGHT
BEGIN:STANDARD
TZOFFSETFROM:-0400
TZOFFSETTO:-0500
TZNAME:EST
DTSTART:20251102T060000
END:STANDARD
BEGIN:DAYLIGHT
TZOFFSETFROM:-0500
TZOFFSETTO:-0400
TZNAME:EDT
DTSTART:20260308T070000
END:DAYLIGHT
BEGIN:STANDARD
TZOFFSETFROM:-0400
TZOFFSETTO:-0500
TZNAME:EST
DTSTART:20261101T060000
END:STANDARD
BEGIN:DAYLIGHT
TZOFFSETFROM:-0500
TZOFFSETTO:-0400
TZNAME:EDT
DTSTART:20270314T070000
END:DAYLIGHT
BEGIN:STANDARD
TZOFFSETFROM:-0400
TZOFFSETTO:-0500
TZNAME:EST
DTSTART:20271107T060000
END:STANDARD
END:VTIMEZONE
BEGIN:VEVENT
DTSTART;TZID=America/New_York:20230214T130000
DTEND;TZID=America/New_York:20230214T140000
DTSTAMP:20260423T075130
CREATED:20230207T164012Z
LAST-MODIFIED:20230207T164012Z
UID:27363-1676379600-1676383200@dementia.stjohnsliving.org
SUMMARY:Understanding Alzheimer's and Dementia: Perinton Community Center
DESCRIPTION:Alzheimer’s disease is not a normal part of aging. Join us to learn about the impact of Alzheimer’s; the difference between Alzheimer’s and dementia; stages and risk factors; current research and treatments available for some symptoms; and Alzheimer’s Association resources. \n\nAdditional Information\n\nAlzheimer’s and dementia do not come with an instruction manual\, but there are resources available to help. Use these free education programs to learn more about what to expect and how to prepare for the future. Registration is required. For additional information\, or questions\, please call 800.272.3900.
URL:https://dementia.stjohnsliving.org/event/understanding-alzheimers-and-dementia-3/
LOCATION:Perinton Community Center\, Fairport\, NY\, United States
END:VEVENT
BEGIN:VEVENT
DTSTART;TZID=America/New_York:20230221T110000
DTEND;TZID=America/New_York:20230221T120000
DTSTAMP:20260423T075130
CREATED:20230207T165627Z
LAST-MODIFIED:20230207T165627Z
UID:27365-1676977200-1676980800@dementia.stjohnsliving.org
SUMMARY:Understanding Dementia Related Behavior with Dept. of Veterans Affairs
DESCRIPTION:Behavior is a powerful form of communication and is one of the primary ways for people with dementia to communicate their needs and feelings as the ability to use language is lost. However\, some behaviors can present real challenges for caregivers to manage. Join us to learn to decode behavioral messages\, identify common behavior triggers\, and learn strategies to help intervene with some of the most common behavioral challenges of Alzheimer’s disease. \n\nAdditional Information\nThis Understanding & Responding to Dementia Related Behaviors program is presented in partnership with the Department of Veterans Affairs via Zoom on February 21\, 2023 from 11:00 am -12:30 pm. \n\nFor more information or to register please contact Tony Rivera at 518.675.7214 or email: tarivera@alz.org.
URL:https://dementia.stjohnsliving.org/event/understanding-dementia-related-behavior/
LOCATION:Online\, NY\, United States
END:VEVENT
BEGIN:VEVENT
DTSTART;TZID=America/New_York:20230518T140000
DTEND;TZID=America/New_York:20230518T153000
DTSTAMP:20260423T075130
CREATED:20230508T144847Z
LAST-MODIFIED:20230508T144847Z
UID:27411-1684418400-1684423800@dementia.stjohnsliving.org
SUMMARY:Music for Comfort and Connection with Kim Best
DESCRIPTION:Thursday\, May 18\, 2023\n2- 3:30 p.m.\nThe Wintergarden at  Brickstone by St. John’s\n1325 Elmwood Avenue\nRochester\, NY 14620\nJoin music therapist\, Kim Best\, MT-BC\, to learn about the value of music as a tool for comfort and connection. This will be part concert and part educational workshop of how to incorporate music for yourself and the people to whom you provide care. \nAudience: General public\, specifically older adults\, family caregivers\, and anyone who enjoys music and is interested in learning more about music therapy as a tool for furthering comfort and connection.
URL:https://dementia.stjohnsliving.org/event/music-for-comfort-and-connection-with-kim-best/
LOCATION:WG
CATEGORIES:Special Events
ATTACH;FMTTYPE=image/png:https://dementia.stjohnsliving.org/wp-content/uploads/2023/05/5.18-Music-for-Comfort-Connection-Instagram-Post-Square.png
ORGANIZER;CN="Lifespan":MAILTO:info@lifespan-roch.org
END:VEVENT
BEGIN:VEVENT
DTSTART;TZID=America/New_York:20230908T080000
DTEND;TZID=America/New_York:20230908T170000
DTSTAMP:20260423T075130
CREATED:20230908T165929Z
LAST-MODIFIED:20230908T165929Z
UID:27508-1694160000-1694192400@dementia.stjohnsliving.org
SUMMARY:Alzheimer's Research Update:  Diagnosis\, Treatment\, & Risk Reduction
DESCRIPTION:Percy Griffin\, PhD \nDirector\, Scientific Engagement\, Alzheimer’s Association \nAlzheimer’s is a global health problem with more than 6 million people living with the disease in the US alone. Tremendous gains have been made in the understanding of the science and basic biology underlying Alzheimer’s and other dementias. This session will explore how these advances are leading to great strides in strategies for prevention\, detection\, diagnostics\, and therapeutic interventions. \n  \nClick Here To Register \n  \n 
URL:https://dementia.stjohnsliving.org/event/alzheimers-research-update-diagnosis-treatment-risk-reduction/
LOCATION:Online\, NY\, United States
ATTACH;FMTTYPE=image/jpeg:https://dementia.stjohnsliving.org/wp-content/uploads/2020/11/alzheimers_association_logo.jpg
END:VEVENT
BEGIN:VEVENT
DTSTART;TZID=America/New_York:20230912T140000
DTEND;TZID=America/New_York:20230912T160000
DTSTAMP:20260423T075130
CREATED:20230908T164838Z
LAST-MODIFIED:20230908T164838Z
UID:27506-1694527200-1694534400@dementia.stjohnsliving.org
SUMMARY:Meet Me at the MAG
DESCRIPTION:Join the Alzheimer’s Association for a free private tour and a chance to spend time with others in the beauty of the Memorial Art Gallery in Rochester. Meet Me at the MAG includes a concert on the Baroque Italian organ and a guided tour of the Gallery’s special exhibitions and permanent collection. The afternoon concludes with a small reception. Come as often as you like\, and explore something new each month. \nCall AA’s 24/7 Helpline at 800-272-3900 to register today! \n 
URL:https://dementia.stjohnsliving.org/event/meet-me-at-the-mag/
LOCATION:Memorial Art Gallery\, 500 University Ave\, Rochester\, NY\, 14620\, United States
ATTACH;FMTTYPE=image/jpeg:https://dementia.stjohnsliving.org/wp-content/uploads/2020/11/alzheimers_association_logo.jpg
END:VEVENT
BEGIN:VEVENT
DTSTART;TZID=America/New_York:20230928T093000
DTEND;TZID=America/New_York:20230928T120000
DTSTAMP:20260423T075130
CREATED:20230908T165347Z
LAST-MODIFIED:20230908T165347Z
UID:27507-1695893400-1695902400@dementia.stjohnsliving.org
SUMMARY:RPO Open Rehearsal
DESCRIPTION:Violin superstar Sarah Chang is “a musician of virtuosity and artistic insight\,” says the San Francisco Chronicle. See her perform Vivaldi’s timeless and visceral “The Four Seasons\,” music that blooms in perennial splendor. Plus\, a newly commissioned piece by American-Iranian composer Gity Razaz. Her new work is conducted by Andreas Delfs along with Mendelssohn’s sunny “Italian” Symphony. \n  \nCall AA’s 24/7 Helpline at 800-272-3900 to register today!
URL:https://dementia.stjohnsliving.org/event/dementia-music-event/
LOCATION:RPO\, 108 East Avenue\, Rochester\, NY\, 14604\, United States
ATTACH;FMTTYPE=image/jpeg:https://dementia.stjohnsliving.org/wp-content/uploads/2020/11/alzheimers_association_logo.jpg
END:VEVENT
BEGIN:VEVENT
DTSTART;TZID=America/New_York:20250529T110000
DTEND;TZID=America/New_York:20250529T150000
DTSTAMP:20260423T075130
CREATED:20250528T154613Z
LAST-MODIFIED:20250528T155301Z
UID:27961-1748516400-1748530800@dementia.stjohnsliving.org
SUMMARY:St. John's Dementia Respite Day Program
DESCRIPTION:
URL:https://dementia.stjohnsliving.org/event/st-johns-dementia-respite-day-program/2025-05-29/
LOCATION:St. John’s Dementia Resource Center
CATEGORIES:Community Events,St. John's Home
ATTACH;FMTTYPE=image/png:https://dementia.stjohnsliving.org/wp-content/uploads/2025/05/DRC-Respite-Flyer.png
END:VEVENT
BEGIN:VEVENT
DTSTART;TZID=America/New_York:20250603T183000
DTEND;TZID=America/New_York:20250603T200000
DTSTAMP:20260423T075130
CREATED:20250528T153518Z
LAST-MODIFIED:20250528T153519Z
UID:27957-1748975400-1748980800@dementia.stjohnsliving.org
SUMMARY:CAREGIVING Screening and Panel Discussion
DESCRIPTION:St. John’s is partnering with WXXI\, Lifespan of Greater Rochester\, Mary Cariola Center\, and Washington Educational Telecommunications Association (WETA) for an important screening and panel event the evening of Tuesday\, June 3 at the Little Theatre in Rochester. \nClick Here to Register\nCaregiving\, a documentary created with executive producer Bradley Cooper and narrated by award-winning actress\, Uzo Aduba\, highlights the challenges and triumphs of caregiving in America. \nThe June 3 screening and panel discussion—presented by WXXI News—is  free of charge\, though registration is required. To reserve your free seat on June 3\, visit the WXXI event page and click the “Get Tickets” button. \n \nFor more information about caregiving—specifically at-home caregiving for a loved one living with Alzheimer’s disease or another form of dementia—visit the St. John’s Online Dementia Resource Center for helpful tools\, articles\, videos\, and more.
URL:https://dementia.stjohnsliving.org/event/caregiving-screening-and-panel-discussion/
LOCATION:The Little Theatre\, 240 East Avenue\, Rochester\, 14604\, United States
CATEGORIES:Community Events,Special Events
ATTACH;FMTTYPE=image/jpeg:https://dementia.stjohnsliving.org/wp-content/uploads/2025/05/CAREGIVING.jpg
END:VEVENT
BEGIN:VEVENT
DTSTART;TZID=America/New_York:20260115T140000
DTEND;TZID=America/New_York:20260115T150000
DTSTAMP:20260423T075130
CREATED:20260109T183749Z
LAST-MODIFIED:20260109T183749Z
UID:28156-1768485600-1768489200@dementia.stjohnsliving.org
SUMMARY:Big Bucks BINGO!
DESCRIPTION:
URL:https://dementia.stjohnsliving.org/event/big-bucks-bingo/
LOCATION:Community Center\, United States
CATEGORIES:St. John's Home
END:VEVENT
BEGIN:VEVENT
DTSTART;TZID=America/New_York:20260215T130000
DTEND;TZID=America/New_York:20260215T160000
DTSTAMP:20260423T075130
CREATED:20260202T160445Z
LAST-MODIFIED:20260202T160618Z
UID:28174-1771160400-1771171200@dementia.stjohnsliving.org
SUMMARY:Illuminating Hope: A Community Update on St. John's Future Dementia Resource Center
DESCRIPTION:Celebrate the Kick-Off of the Public Campaign with St. John’s!\n \nCome learn about St. John’s plans to renovate the South Building Ground Floor to provide a Dementia Reosurce Center that will offer an array of on-site programs and activities for adults living with dementia and extensive resources to support their caregivers. \nSunday\, February 15\n1:00 p.m.\n150 Highland Avenue\, Rochester\, NY \nPlease call 585-760-1333 or send an email to amckenna@stjohnsliving.org to RSVP by February 9.
URL:https://dementia.stjohnsliving.org/event/illuminating-hope-a-community-update-on-st-johns-future-dementia-resource-center/
LOCATION:St. John’s Home Community Center\, 150 Highland Avenue\, Rochester\, 14620\, United States
CATEGORIES:Community Events,Special Events
ATTACH;FMTTYPE=image/png:https://dementia.stjohnsliving.org/wp-content/uploads/2026/02/invitation-cover.png
END:VEVENT
BEGIN:VEVENT
DTSTART;TZID=America/New_York:20260226T110000
DTEND;TZID=America/New_York:20260226T150000
DTSTAMP:20260423T075130
CREATED:20250528T154613Z
LAST-MODIFIED:20250528T154613Z
UID:28153-1772103600-1772118000@dementia.stjohnsliving.org
SUMMARY:St. John's Dementia Respite Day Program
DESCRIPTION:
URL:https://dementia.stjohnsliving.org/event/st-johns-dementia-respite-day-program/2026-02-26/
LOCATION:St. John’s Dementia Resource Center
CATEGORIES:Community Events,St. John's Home
ATTACH;FMTTYPE=image/png:https://dementia.stjohnsliving.org/wp-content/uploads/2025/05/DRC-Respite-Flyer.png
END:VEVENT
BEGIN:VEVENT
DTSTART;TZID=America/New_York:20260305T110000
DTEND;TZID=America/New_York:20260305T150000
DTSTAMP:20260423T075130
CREATED:20250528T154613Z
LAST-MODIFIED:20250528T154613Z
UID:28155-1772708400-1772722800@dementia.stjohnsliving.org
SUMMARY:St. John's Dementia Respite Day Program
DESCRIPTION:
URL:https://dementia.stjohnsliving.org/event/st-johns-dementia-respite-day-program/2026-03-05/
LOCATION:St. John’s Dementia Resource Center
CATEGORIES:Community Events,St. John's Home
ATTACH;FMTTYPE=image/png:https://dementia.stjohnsliving.org/wp-content/uploads/2025/05/DRC-Respite-Flyer.png
END:VEVENT
BEGIN:VEVENT
DTSTART;TZID=America/New_York:20260312T110000
DTEND;TZID=America/New_York:20260312T150000
DTSTAMP:20260423T075130
CREATED:20250528T154613Z
LAST-MODIFIED:20250528T154613Z
UID:28160-1773313200-1773327600@dementia.stjohnsliving.org
SUMMARY:St. John's Dementia Respite Day Program
DESCRIPTION:
URL:https://dementia.stjohnsliving.org/event/st-johns-dementia-respite-day-program/2026-03-12/
LOCATION:St. John’s Dementia Resource Center
CATEGORIES:Community Events,St. John's Home
ATTACH;FMTTYPE=image/png:https://dementia.stjohnsliving.org/wp-content/uploads/2025/05/DRC-Respite-Flyer.png
END:VEVENT
BEGIN:VEVENT
DTSTART;TZID=America/New_York:20260319T110000
DTEND;TZID=America/New_York:20260319T150000
DTSTAMP:20260423T075130
CREATED:20250528T154613Z
LAST-MODIFIED:20250528T154613Z
UID:28166-1773918000-1773932400@dementia.stjohnsliving.org
SUMMARY:St. John's Dementia Respite Day Program
DESCRIPTION:
URL:https://dementia.stjohnsliving.org/event/st-johns-dementia-respite-day-program/2026-03-19/
LOCATION:St. John’s Dementia Resource Center
CATEGORIES:Community Events,St. John's Home
ATTACH;FMTTYPE=image/png:https://dementia.stjohnsliving.org/wp-content/uploads/2025/05/DRC-Respite-Flyer.png
END:VEVENT
BEGIN:VEVENT
DTSTART;TZID=America/New_York:20260326T110000
DTEND;TZID=America/New_York:20260326T150000
DTSTAMP:20260423T075130
CREATED:20250528T154613Z
LAST-MODIFIED:20250528T154613Z
UID:28172-1774522800-1774537200@dementia.stjohnsliving.org
SUMMARY:St. John's Dementia Respite Day Program
DESCRIPTION:
URL:https://dementia.stjohnsliving.org/event/st-johns-dementia-respite-day-program/2026-03-26/
LOCATION:St. John’s Dementia Resource Center
CATEGORIES:Community Events,St. John's Home
ATTACH;FMTTYPE=image/png:https://dementia.stjohnsliving.org/wp-content/uploads/2025/05/DRC-Respite-Flyer.png
END:VEVENT
BEGIN:VEVENT
DTSTART;TZID=America/New_York:20260402T110000
DTEND;TZID=America/New_York:20260402T150000
DTSTAMP:20260423T075130
CREATED:20250528T154613Z
LAST-MODIFIED:20250528T154613Z
UID:28177-1775127600-1775142000@dementia.stjohnsliving.org
SUMMARY:St. John's Dementia Respite Day Program
DESCRIPTION:
URL:https://dementia.stjohnsliving.org/event/st-johns-dementia-respite-day-program/2026-04-02/
LOCATION:St. John’s Dementia Resource Center
CATEGORIES:Community Events,St. John's Home
ATTACH;FMTTYPE=image/png:https://dementia.stjohnsliving.org/wp-content/uploads/2025/05/DRC-Respite-Flyer.png
END:VEVENT
BEGIN:VEVENT
DTSTART;TZID=America/New_York:20260409T110000
DTEND;TZID=America/New_York:20260409T150000
DTSTAMP:20260423T075130
CREATED:20250528T154613Z
LAST-MODIFIED:20250528T154613Z
UID:28180-1775732400-1775746800@dementia.stjohnsliving.org
SUMMARY:St. John's Dementia Respite Day Program
DESCRIPTION:
URL:https://dementia.stjohnsliving.org/event/st-johns-dementia-respite-day-program/2026-04-09/
LOCATION:St. John’s Dementia Resource Center
CATEGORIES:Community Events,St. John's Home
ATTACH;FMTTYPE=image/png:https://dementia.stjohnsliving.org/wp-content/uploads/2025/05/DRC-Respite-Flyer.png
END:VEVENT
BEGIN:VEVENT
DTSTART;TZID=America/New_York:20260416T110000
DTEND;TZID=America/New_York:20260416T150000
DTSTAMP:20260423T075130
CREATED:20250528T154613Z
LAST-MODIFIED:20250528T154613Z
UID:28184-1776337200-1776351600@dementia.stjohnsliving.org
SUMMARY:St. John's Dementia Respite Day Program
DESCRIPTION:
URL:https://dementia.stjohnsliving.org/event/st-johns-dementia-respite-day-program/2026-04-16/
LOCATION:St. John’s Dementia Resource Center
CATEGORIES:Community Events,St. John's Home
ATTACH;FMTTYPE=image/png:https://dementia.stjohnsliving.org/wp-content/uploads/2025/05/DRC-Respite-Flyer.png
END:VEVENT
BEGIN:VEVENT
DTSTART;TZID=America/New_York:20260423T110000
DTEND;TZID=America/New_York:20260423T150000
DTSTAMP:20260423T075130
CREATED:20250528T154613Z
LAST-MODIFIED:20250528T154613Z
UID:28185-1776942000-1776956400@dementia.stjohnsliving.org
SUMMARY:St. John's Dementia Respite Day Program
DESCRIPTION:
URL:https://dementia.stjohnsliving.org/event/st-johns-dementia-respite-day-program/2026-04-23/
LOCATION:St. John’s Dementia Resource Center
CATEGORIES:Community Events,St. John's Home
ATTACH;FMTTYPE=image/png:https://dementia.stjohnsliving.org/wp-content/uploads/2025/05/DRC-Respite-Flyer.png
END:VEVENT
BEGIN:VEVENT
DTSTART;TZID=America/New_York:20260430T110000
DTEND;TZID=America/New_York:20260430T150000
DTSTAMP:20260423T075130
CREATED:20250528T154613Z
LAST-MODIFIED:20250528T154613Z
UID:28187-1777546800-1777561200@dementia.stjohnsliving.org
SUMMARY:St. John's Dementia Respite Day Program
DESCRIPTION:
URL:https://dementia.stjohnsliving.org/event/st-johns-dementia-respite-day-program/2026-04-30/
LOCATION:St. John’s Dementia Resource Center
CATEGORIES:Community Events,St. John's Home
ATTACH;FMTTYPE=image/png:https://dementia.stjohnsliving.org/wp-content/uploads/2025/05/DRC-Respite-Flyer.png
END:VEVENT
BEGIN:VEVENT
DTSTART;TZID=America/New_York:20260507T110000
DTEND;TZID=America/New_York:20260507T150000
DTSTAMP:20260423T075130
CREATED:20250528T154613Z
LAST-MODIFIED:20250528T154613Z
UID:28189-1778151600-1778166000@dementia.stjohnsliving.org
SUMMARY:St. John's Dementia Respite Day Program
DESCRIPTION:
URL:https://dementia.stjohnsliving.org/event/st-johns-dementia-respite-day-program/2026-05-07/
LOCATION:St. John’s Dementia Resource Center
CATEGORIES:Community Events,St. John's Home
ATTACH;FMTTYPE=image/png:https://dementia.stjohnsliving.org/wp-content/uploads/2025/05/DRC-Respite-Flyer.png
END:VEVENT
BEGIN:VEVENT
DTSTART;TZID=America/New_York:20260514T110000
DTEND;TZID=America/New_York:20260514T150000
DTSTAMP:20260423T075130
CREATED:20250528T154613Z
LAST-MODIFIED:20250528T154613Z
UID:28190-1778756400-1778770800@dementia.stjohnsliving.org
SUMMARY:St. John's Dementia Respite Day Program
DESCRIPTION:
URL:https://dementia.stjohnsliving.org/event/st-johns-dementia-respite-day-program/2026-05-14/
LOCATION:St. John’s Dementia Resource Center
CATEGORIES:Community Events,St. John's Home
ATTACH;FMTTYPE=image/png:https://dementia.stjohnsliving.org/wp-content/uploads/2025/05/DRC-Respite-Flyer.png
END:VEVENT
BEGIN:VEVENT
DTSTART;TZID=America/New_York:20260521T110000
DTEND;TZID=America/New_York:20260521T150000
DTSTAMP:20260423T075130
CREATED:20250528T154613Z
LAST-MODIFIED:20250528T154613Z
UID:28192-1779361200-1779375600@dementia.stjohnsliving.org
SUMMARY:St. John's Dementia Respite Day Program
DESCRIPTION:
URL:https://dementia.stjohnsliving.org/event/st-johns-dementia-respite-day-program/2026-05-21/
LOCATION:St. John’s Dementia Resource Center
CATEGORIES:Community Events,St. John's Home
ATTACH;FMTTYPE=image/png:https://dementia.stjohnsliving.org/wp-content/uploads/2025/05/DRC-Respite-Flyer.png
END:VEVENT
BEGIN:VEVENT
DTSTART;TZID=America/New_York:20260528T110000
DTEND;TZID=America/New_York:20260528T150000
DTSTAMP:20260423T075130
CREATED:20250528T154613Z
LAST-MODIFIED:20250528T154613Z
UID:28193-1779966000-1779980400@dementia.stjohnsliving.org
SUMMARY:St. John's Dementia Respite Day Program
DESCRIPTION:
URL:https://dementia.stjohnsliving.org/event/st-johns-dementia-respite-day-program/2026-05-28/
LOCATION:St. John’s Dementia Resource Center
CATEGORIES:Community Events,St. John's Home
ATTACH;FMTTYPE=image/png:https://dementia.stjohnsliving.org/wp-content/uploads/2025/05/DRC-Respite-Flyer.png
END:VEVENT
BEGIN:VEVENT
DTSTART;TZID=America/New_York:20260604T110000
DTEND;TZID=America/New_York:20260604T150000
DTSTAMP:20260423T075130
CREATED:20250528T154613Z
LAST-MODIFIED:20250528T154613Z
UID:28199-1780570800-1780585200@dementia.stjohnsliving.org
SUMMARY:St. John's Dementia Respite Day Program
DESCRIPTION:
URL:https://dementia.stjohnsliving.org/event/st-johns-dementia-respite-day-program/2026-06-04/
LOCATION:St. John’s Dementia Resource Center
CATEGORIES:Community Events,St. John's Home
ATTACH;FMTTYPE=image/png:https://dementia.stjohnsliving.org/wp-content/uploads/2025/05/DRC-Respite-Flyer.png
END:VEVENT
BEGIN:VEVENT
DTSTART;TZID=America/New_York:20260611T110000
DTEND;TZID=America/New_York:20260611T150000
DTSTAMP:20260423T075130
CREATED:20250528T154613Z
LAST-MODIFIED:20250528T154613Z
UID:28201-1781175600-1781190000@dementia.stjohnsliving.org
SUMMARY:St. John's Dementia Respite Day Program
DESCRIPTION:
URL:https://dementia.stjohnsliving.org/event/st-johns-dementia-respite-day-program/2026-06-11/
LOCATION:St. John’s Dementia Resource Center
CATEGORIES:Community Events,St. John's Home
ATTACH;FMTTYPE=image/png:https://dementia.stjohnsliving.org/wp-content/uploads/2025/05/DRC-Respite-Flyer.png
END:VEVENT
BEGIN:VEVENT
DTSTART;TZID=America/New_York:20260618T110000
DTEND;TZID=America/New_York:20260618T150000
DTSTAMP:20260423T075130
CREATED:20250528T154613Z
LAST-MODIFIED:20250528T154613Z
UID:28203-1781780400-1781794800@dementia.stjohnsliving.org
SUMMARY:St. John's Dementia Respite Day Program
DESCRIPTION:
URL:https://dementia.stjohnsliving.org/event/st-johns-dementia-respite-day-program/2026-06-18/
LOCATION:St. John’s Dementia Resource Center
CATEGORIES:Community Events,St. John's Home
ATTACH;FMTTYPE=image/png:https://dementia.stjohnsliving.org/wp-content/uploads/2025/05/DRC-Respite-Flyer.png
END:VEVENT
END:VCALENDAR