BEGIN:VCALENDAR
VERSION:2.0
PRODID:-//Dementia Resource Center - ECPv6.15.20//NONSGML v1.0//EN
CALSCALE:GREGORIAN
METHOD:PUBLISH
X-WR-CALNAME:Dementia Resource Center
X-ORIGINAL-URL:https://dementia.stjohnsliving.org
X-WR-CALDESC:Events for Dementia Resource Center
REFRESH-INTERVAL;VALUE=DURATION:PT1H
X-Robots-Tag:noindex
X-PUBLISHED-TTL:PT1H
BEGIN:VTIMEZONE
TZID:America/New_York
BEGIN:DAYLIGHT
TZOFFSETFROM:-0500
TZOFFSETTO:-0400
TZNAME:EDT
DTSTART:20200308T070000
END:DAYLIGHT
BEGIN:STANDARD
TZOFFSETFROM:-0400
TZOFFSETTO:-0500
TZNAME:EST
DTSTART:20201101T060000
END:STANDARD
BEGIN:DAYLIGHT
TZOFFSETFROM:-0500
TZOFFSETTO:-0400
TZNAME:EDT
DTSTART:20210314T070000
END:DAYLIGHT
BEGIN:STANDARD
TZOFFSETFROM:-0400
TZOFFSETTO:-0500
TZNAME:EST
DTSTART:20211107T060000
END:STANDARD
BEGIN:DAYLIGHT
TZOFFSETFROM:-0500
TZOFFSETTO:-0400
TZNAME:EDT
DTSTART:20220313T070000
END:DAYLIGHT
BEGIN:STANDARD
TZOFFSETFROM:-0400
TZOFFSETTO:-0500
TZNAME:EST
DTSTART:20221106T060000
END:STANDARD
BEGIN:DAYLIGHT
TZOFFSETFROM:-0500
TZOFFSETTO:-0400
TZNAME:EDT
DTSTART:20230312T070000
END:DAYLIGHT
BEGIN:STANDARD
TZOFFSETFROM:-0400
TZOFFSETTO:-0500
TZNAME:EST
DTSTART:20231105T060000
END:STANDARD
END:VTIMEZONE
BEGIN:VEVENT
DTSTART;TZID=America/New_York:20221203T090000
DTEND;TZID=America/New_York:20221203T130000
DTSTAMP:20260423T063114
CREATED:20221130T173114Z
LAST-MODIFIED:20221130T183745Z
UID:27325-1670058000-1670072400@dementia.stjohnsliving.org
SUMMARY:LifeSpan Caregiver Conference
DESCRIPTION:Join LifeSpan’s caregiver team at the Memorial Art Gallery for a morning of Information & Inspiration and then get free access to tour the Memorial Art Gallery. (Sponsored by St. John’s) \nArrive as early as 8:15 am for a light breakfast and to see our vendors. \nAgenda: \n\n\nLegal Considerations of Caregiving\, Jeremy Sedelmeyer\, Boylan Code \n\n\nIncorporating Easy Wellness Into Your Caregiving Routine Wendy Fambro\, Lifespan Wellness Coordinator \n\n\nResilience\, Caregiving and Managing Stress Shoshanna Cogan\, International Training & Consulting \n\n\nON-SITE RESPITE AVAILABLE. Respite reservation required. Call Eve at 585-244-8400 ext. 213. \n \n \n 
URL:https://dementia.stjohnsliving.org/event/lifespan-caregiver-conference/
LOCATION:Memorial Art Gallery\, 500 University Ave\, Rochester\, NY\, 14620\, United States
CATEGORIES:Community Events,Special Events,St. John's Home
ORGANIZER;CN="Lifespan":MAILTO:info@lifespan-roch.org
END:VEVENT
BEGIN:VEVENT
DTSTART;TZID=America/New_York:20220722T120000
DTEND;TZID=America/New_York:20220722T130000
DTSTAMP:20260423T063114
CREATED:20220630T205032Z
LAST-MODIFIED:20220630T205054Z
UID:27232-1658491200-1658494800@dementia.stjohnsliving.org
SUMMARY:Dementia Conversations
DESCRIPTION:Join Alzheimer’s Association to learn tips about breaking the ice with your family so you can address some of the most common issues that are difficult to discuss: going to the doctor for a diagnosis or medical treatment\, deciding when to stop driving\, and making legal and financial plans for future care. \n\n24/7 Helpline: (800) 272-3900 \n\nAdditional Information:\n\nThis is a virtual program presented via webinar and phone. You will receive the access information in your email confirmation following your pre-registration. Please be sure to register using a valid email address. For more information\, please call 1-800-272-3900.
URL:https://dementia.stjohnsliving.org/event/dementia-conversations/
LOCATION:Online\, NY\, United States
END:VEVENT
BEGIN:VEVENT
DTSTART;TZID=America/New_York:20220715T120000
DTEND;TZID=America/New_York:20220715T130000
DTSTAMP:20260423T063114
CREATED:20220630T202144Z
LAST-MODIFIED:20220630T203854Z
UID:27231-1657886400-1657890000@dementia.stjohnsliving.org
SUMMARY:Understanding and Responding to Dementia-Related Behavior
DESCRIPTION:Join Alzheimer’s Association to learn to decode behavioral messages\, identify common triggers\, and\nlearn strategies to help manage some of the most common behavioral challenges of Alzheimer’s disease. \n\n24/7 Helpline: (800) 272-3900 \n\nAdditional Information:\n\nThis is a virtual program presented via webinar and phone. You will receive the access information in your email confirmation following your pre-registration. Please be sure to register using a valid email address. For more information\, please call 1-800-272-3900.
URL:https://dementia.stjohnsliving.org/event/understanding-and-responding-to-dementia-related-behavior-2/
LOCATION:Online\, NY\, United States
END:VEVENT
BEGIN:VEVENT
DTSTART;TZID=America/New_York:20220708T113000
DTEND;TZID=America/New_York:20220708T123000
DTSTAMP:20260423T063114
CREATED:20220630T201124Z
LAST-MODIFIED:20220630T201124Z
UID:27229-1657279800-1657283400@dementia.stjohnsliving.org
SUMMARY:10 Warning Signs of Alzheimer's
DESCRIPTION:Join Alzheimer’s Association to learn how to recognize common signs of the disease; how to approach someone about memory concerns; the importance of early detection and benefits of a diagnosis; possible tests and assessments for the diagnostic process\, and Alzheimer’s Association resources. \n\n24/7 Helpline: (800) 272-3900 \n\nAdditional Information:\n\nThis is a virtual program presented via webinar and phone. You will receive the access information in your email confirmation following your pre-registration. Please be sure to register using a valid email address. For more information\, please call 1-800-272-3900.
URL:https://dementia.stjohnsliving.org/event/10-warning-signs-of-alzheimers-2/
LOCATION:Online\, NY\, United States
END:VEVENT
BEGIN:VEVENT
DTSTART;TZID=America/New_York:20220706T093000
DTEND;TZID=America/New_York:20220706T103000
DTSTAMP:20260423T063114
CREATED:20220630T201542Z
LAST-MODIFIED:20220630T201542Z
UID:27230-1657099800-1657103400@dementia.stjohnsliving.org
SUMMARY:Understanding Alzheimer's and Dementia
DESCRIPTION:Join Alzheimer’s Association to learn about the impact of Alzheimer’s; the difference between Alzheimer’s and dementia; stages and risk factors; current research and treatments available for some symptoms; and Alzheimer’s Association resources. \n\n24/7 Helpline: (800) 272-3900 \n\nAdditional Information\n\nThis is a virtual program presented via webinar and phone. You will receive the access information in your email confirmation following your pre-registration. Please be sure to register using a valid email address. For more information\, please call 1-800-272-3900.
URL:https://dementia.stjohnsliving.org/event/understanding-alzheimers-and-dementia-2/
LOCATION:Online\, NY\, United States
END:VEVENT
BEGIN:VEVENT
DTSTART;TZID=America/New_York:20220628T160000
DTEND;TZID=America/New_York:20220628T170000
DTSTAMP:20260423T063114
CREATED:20220603T183712Z
LAST-MODIFIED:20220603T183910Z
UID:27213-1656432000-1656435600@dementia.stjohnsliving.org
SUMMARY:Understanding Alzheimer's and Dementia
DESCRIPTION:It’s a disease of the brain that causes problems with memory\, thinking\, and behavior. Learn more about it at this webinar offered by Alzheimer’s Association in partnership with the Department of Veteran Affairs. \nTuesday\, June 28 \n4-5 p.m. \nTo register for this program\, call 1.800.272.3900 to speak to someone directly. As a reminder\, personal care consultations are available 24 hours per day/365 days of the year.
URL:https://dementia.stjohnsliving.org/event/understanding-alzheimers-and-dementia/
LOCATION:Online\, NY\, United States
CATEGORIES:Special Events
ATTACH;FMTTYPE=image/png:https://dementia.stjohnsliving.org/wp-content/uploads/2022/06/Capture-1.png
END:VEVENT
BEGIN:VEVENT
DTSTART;TZID=America/New_York:20220614T160000
DTEND;TZID=America/New_York:20220614T180000
DTSTAMP:20260423T063114
CREATED:20220603T182838Z
LAST-MODIFIED:20220603T183829Z
UID:27210-1655222400-1655229600@dementia.stjohnsliving.org
SUMMARY:Options\, Wellness\, and Support for Alzheimer's Caregivers
DESCRIPTION:  \nSpeakers: Dr. Thomas Caprio\, UR Medicine and Vicky Ruppert\, author of Singing in the Rain \nStaff from LifeSpan of Greater Rochester and the Alzheimer’s Association Rochester & Finger Lakes Region will share local resources\, programs\, and services for caregivers and people living with dementia.
URL:https://dementia.stjohnsliving.org/event/options-wellness-and-support-for-alzheimers-caregivers/
LOCATION:Rochester Academy of Medicine\, 1441 East Avenue\, Rochester
CATEGORIES:Special Events
ATTACH;FMTTYPE=image/png:https://dementia.stjohnsliving.org/wp-content/uploads/2022/06/Capture.png
ORGANIZER;CN="Lifespan":MAILTO:info@lifespan-roch.org
END:VEVENT
BEGIN:VEVENT
DTSTART;TZID=America/New_York:20220608T120000
DTEND;TZID=America/New_York:20220608T130000
DTSTAMP:20260423T063114
CREATED:20220519T153408Z
LAST-MODIFIED:20220519T155114Z
UID:27206-1654689600-1654693200@dementia.stjohnsliving.org
SUMMARY:Healthy Living for Your Brain and Body & Panel Discussion
DESCRIPTION:For centuries\, we’ve known that the health of the brain and the body are connected. But now\, science is able to provide insights into how to make lifestyle choices that may help you keep your brain and body healthy as you age. Join Alzheimer’s Association in this online webinar to learn about research in the areas of diet and nutrition\, exercise\, cognitive activity and social engagement\, and use hands-on tools to help you incorporate these recommendations into a plan for healthy aging. \nAdditional Information\n\nThis is a virtual program presented via webinar and phone. You will receive the access information in your email confirmation once you pre-register. Please be sure to register using a valid email address. For more information\, call 1-800-272-3900.
URL:https://dementia.stjohnsliving.org/event/healthy-living-for-your-brain-and-body-panel-discussion/
LOCATION:Online\, NY\, United States
END:VEVENT
BEGIN:VEVENT
DTSTART;TZID=America/New_York:20220523T180000
DTEND;TZID=America/New_York:20220523T190000
DTSTAMP:20260423T063114
CREATED:20220503T153255Z
LAST-MODIFIED:20220503T153255Z
UID:27187-1653328800-1653332400@dementia.stjohnsliving.org
SUMMARY:Understanding and Responding to Dementia-Related Behavior
DESCRIPTION:Behavior is a powerful form of communication and is one of the primary ways for people with dementia to communicate their needs and feelings as the ability to use language is lost. However\, some behaviors can present real challenges for caregivers to manage. Join us to learn to decode behavioral messages\, identify common behavior triggers\, and learn strategies to help intervene with some of the most common behavioral challenges of Alzheimer’s disease. \n\nAdditional Information\n\nThis is a virtual program presented via webinar and phone. You will receive the access information in your email confirmation following your pre-registration. Please be sure to register using a valid email address. For more information\, please call 1-800-272-3900.
URL:https://dementia.stjohnsliving.org/event/understanding-and-responding-to-dementia-related-behavior/
LOCATION:Online\, NY\, United States
CATEGORIES:Community Events,Special Events
ATTACH;FMTTYPE=image/jpeg:https://dementia.stjohnsliving.org/wp-content/uploads/2020/11/alzheimers_association_logo.jpg
END:VEVENT
BEGIN:VEVENT
DTSTART;TZID=America/New_York:20220519T160000
DTEND;TZID=America/New_York:20220519T170000
DTSTAMP:20260423T063114
CREATED:20220503T152520Z
LAST-MODIFIED:20220503T152520Z
UID:27186-1652976000-1652979600@dementia.stjohnsliving.org
SUMMARY:10 Warning Signs of Alzheimer's
DESCRIPTION:Alzheimer’s and other dementias cause memory\, thinking and behavior problems that interfere with daily living. Join us to learn how to recognize common signs of the disease; how to approach someone about memory concerns; the importance of early detection and benefits of a diagnosis; possible tests and assessments for the diagnostic process\, and Alzheimer’s Association resources. \n\nAdditional Information\nThis is a virtual program presented via webinar and phone. You will receive the access information in your email confirmation following your pre-registration. Please be sure to register using a valid email address. For more information\, please call 1-800-272-3900.
URL:https://dementia.stjohnsliving.org/event/10-warning-signs-of-alzheimers/
LOCATION:Online\, NY\, United States
CATEGORIES:Community Events,Special Events
ATTACH;FMTTYPE=image/jpeg:https://dementia.stjohnsliving.org/wp-content/uploads/2020/11/alzheimers_association_logo.jpg
END:VEVENT
BEGIN:VEVENT
DTSTART;TZID=America/New_York:20220518T090000
DTEND;TZID=America/New_York:20220518T100000
DTSTAMP:20260423T063114
CREATED:20220503T151707Z
LAST-MODIFIED:20220503T151707Z
UID:27185-1652864400-1652868000@dementia.stjohnsliving.org
SUMMARY:Healthy Living for Your Brain and Body: Tips from the Latest Research
DESCRIPTION:For centuries\, we’ve known that the health of the brain and the body are connected. But now\, science is able to provide insights into how to make lifestyle choices that may help you keep your brain and body healthy as you age. Join us to learn about research in the areas of diet and nutrition\, exercise\, cognitive activity and social engagement\, and use hands-on tools to help you incorporate these recommendations into a plan for healthy aging. \n\nAdditional Information\n\nThis is a virtual program presented via webinar and phone. You will receive the access information in your email confirmation following your pre-registration. Please be sure to register using a valid email address. For more information\, please call 1-800-272-3900.
URL:https://dementia.stjohnsliving.org/event/healthy-living-for-your-brain-and-body-tips-from-the-latest-research/
LOCATION:Online\, NY\, United States
CATEGORIES:Community Events
ATTACH;FMTTYPE=image/jpeg:https://dementia.stjohnsliving.org/wp-content/uploads/2020/11/alzheimers_association_logo.jpg
END:VEVENT
BEGIN:VEVENT
DTSTART;TZID=America/New_York:20220330T160000
DTEND;TZID=America/New_York:20220330T173000
DTSTAMP:20260423T063114
CREATED:20220211T201812Z
LAST-MODIFIED:20220211T201812Z
UID:27147-1648656000-1648661400@dementia.stjohnsliving.org
SUMMARY:Age in Place: A Guide to Staying Safe at Home
DESCRIPTION:Alzheimer’s and dementia doesn’t come with an instruction manual\, but there are resources available to help. Attend this free education program to learn more about what to expect and how to prepare for the future. \nWednesday\, March 30 \n4 -5:30 p.m. \nLynda Shrager\, OT\, MSW \n\n \nFor more information\, visit alz.org/CRF or call #1-800-272-3900.
URL:https://dementia.stjohnsliving.org/event/age-in-place-a-guide-to-staying-safe-at-home/
LOCATION:Multiple Venues\, Rochester\, NY\, United States
END:VEVENT
BEGIN:VEVENT
DTSTART;TZID=America/New_York:20220309T160000
DTEND;TZID=America/New_York:20220309T173000
DTSTAMP:20260423T063114
CREATED:20220211T201458Z
LAST-MODIFIED:20220211T204032Z
UID:27144-1646841600-1646847000@dementia.stjohnsliving.org
SUMMARY:Legal and Financial Planning (Part 1 & Part 2)
DESCRIPTION:Alzheimer’s and dementia doesn’t come with an instruction manual\, but there are resources available to help. Attend this free education program to learn more about what to expect and how to prepare for the future. \nWednesday\, March 9  \n4 -5:30 p.m. \nMiles Zatkowsky\, Esq\nDutcher & Zatkowsky \n  \nWednesday\, March 23  \n4 -5:30 p.m. \nGreg Piede\, Esq\nPiede Law \n \nFor more information\, visit alz.org/CRF or call #1-800-272-3900.
URL:https://dementia.stjohnsliving.org/event/legal-and-financial-planning-part-1-part-2/2022-03-09/
LOCATION:Multiple Venues\, Rochester\, NY\, United States
END:VEVENT
BEGIN:VEVENT
DTSTART;TZID=America/New_York:20220211T160000
DTEND;TZID=America/New_York:20220216T173000
DTSTAMP:20260423T063114
CREATED:20220211T201049Z
LAST-MODIFIED:20220211T203956Z
UID:27141-1644595200-1645032600@dementia.stjohnsliving.org
SUMMARY:End of Life Decisions: Late Stages of Dementia\, Palliative Care\, and Hospice Care
DESCRIPTION:Alzheimer’s and dementia doesn’t come with an instruction manual\, but there are resources available to help. Attend this free education program to learn more about what to expect and how to prepare for the future. \nWednesday\, February 16  \n4 -5:30 p.m. \nThomas Caprio\, MD \nUniversity of Rochester Medical Center \n \nFor more information\, visit alz.org/CRF or call #1-800-272-3900. \n 
URL:https://dementia.stjohnsliving.org/event/end-of-life-decisions-late-stages-of-dementia-palliative-care-and-hospice-care/
LOCATION:UR Medical Center\, Rochester\, NY\, United States
END:VEVENT
BEGIN:VEVENT
DTSTART;TZID=America/New_York:20210629T080000
DTEND;TZID=America/New_York:20210629T170000
DTSTAMP:20260423T063114
CREATED:20210526T195350Z
LAST-MODIFIED:20210526T195624Z
UID:26921-1624953600-1624986000@dementia.stjohnsliving.org
SUMMARY:CarePlanet's Virtual Conference for Caregivers
DESCRIPTION:An event that #caregivers will not want to miss. Mark your calendars and connect with Care Planet to stay on top of the developing plans. https://careplanet.co/events-2/
URL:https://dementia.stjohnsliving.org/event/careplanets-virtual-conference-for-caregivers/
LOCATION:Online\, NY\, United States
CATEGORIES:Community Events,Special Events
END:VEVENT
BEGIN:VEVENT
DTSTART;TZID=America/New_York:20210427T180000
DTEND;TZID=America/New_York:20210427T190000
DTSTAMP:20260423T063114
CREATED:20210427T163612Z
LAST-MODIFIED:20210427T164314Z
UID:26909-1619546400-1619550000@dementia.stjohnsliving.org
SUMMARY:COVID-19 and Caregiving: Finding Hope from What We've Learned
DESCRIPTION: \nIt’s tough to look for silver linings in the COVID-19 pandemic\, but our resilience and ingenuity during this crisis has opened new channels of thinking and practice when it comes to caring for people with Alzheimer’s disease or other dementias. Join us for a brief overview of Alzheimer’s disease followed by a discussion with local health experts and caregivers as we explore how what we’ve learned during the pandemic will influence caregivers for years to come. \n 
URL:https://dementia.stjohnsliving.org/event/26909/
LOCATION:Online\, NY\, United States
END:VEVENT
END:VCALENDAR